BEGIN:VCALENDAR
VERSION:2.0
PRODID:-//Emmanuel Christian Academy - ECPv6.15.20//NONSGML v1.0//EN
CALSCALE:GREGORIAN
METHOD:PUBLISH
X-WR-CALNAME:Emmanuel Christian Academy
X-ORIGINAL-URL:https://ecarams.org
X-WR-CALDESC:Events for Emmanuel Christian Academy
REFRESH-INTERVAL;VALUE=DURATION:PT1H
X-Robots-Tag:noindex
X-PUBLISHED-TTL:PT1H
BEGIN:VTIMEZONE
TZID:UTC
BEGIN:STANDARD
TZOFFSETFROM:+0000
TZOFFSETTO:+0000
TZNAME:UTC
DTSTART:20250101T000000
END:STANDARD
END:VTIMEZONE
BEGIN:VEVENT
DTSTART;VALUE=DATE:20260423
DTEND;VALUE=DATE:20260426
DTSTAMP:20260425T214138
CREATED:20250828T150222Z
LAST-MODIFIED:20250828T150222Z
UID:10000317-1776902400-1777161599@ecarams.org
SUMMARY:The Ohio Early Childhood Conference (Childcare-Elementary Closed)
DESCRIPTION:Teachers and staff will attend the Ohio Early Childhood Conference\, focusing on best practices\, innovation\, and growth in early education. Childcare and elementary programs will be closed during this time.
URL:https://ecarams.org/event/the-ohio-early-childhood-conference-childcare-elementary-closed/
ATTACH;FMTTYPE=image/jpeg:https://ecarams.org/wp-content/uploads/2025/08/481897669_1202464538549864_3645801289874587094_n.jpg
END:VEVENT
BEGIN:VEVENT
DTSTART;VALUE=DATE:20260423
DTEND;VALUE=DATE:20260426
DTSTAMP:20260425T214138
CREATED:20251009T201102Z
LAST-MODIFIED:20251009T201102Z
UID:10000360-1776902400-1777161599@ecarams.org
SUMMARY:EEC and Elementary Closed
DESCRIPTION:EEC and Elementary Closed \n 
URL:https://ecarams.org/event/eec-and-elementary-closed/
ATTACH;FMTTYPE=image/jpeg:https://ecarams.org/wp-content/uploads/2025/08/481897669_1202464538549864_3645801289874587094_n.jpg
END:VEVENT
END:VCALENDAR