BEGIN:VCALENDAR
VERSION:2.0
PRODID:-//Emmanuel Christian Academy - ECPv6.15.20//NONSGML v1.0//EN
CALSCALE:GREGORIAN
METHOD:PUBLISH
X-WR-CALNAME:Emmanuel Christian Academy
X-ORIGINAL-URL:https://ecarams.org
X-WR-CALDESC:Events for Emmanuel Christian Academy
REFRESH-INTERVAL;VALUE=DURATION:PT1H
X-Robots-Tag:noindex
X-PUBLISHED-TTL:PT1H
BEGIN:VTIMEZONE
TZID:UTC
BEGIN:STANDARD
TZOFFSETFROM:+0000
TZOFFSETTO:+0000
TZNAME:UTC
DTSTART:20170101T000000
END:STANDARD
END:VTIMEZONE
BEGIN:VEVENT
DTSTART;TZID=UTC:20180918T100000
DTEND;TZID=UTC:20180918T110000
DTSTAMP:20260422T221126
CREATED:20180906T050529Z
LAST-MODIFIED:20180906T160451Z
UID:10000015-1537264800-1537268400@ecarams.org
SUMMARY:EEC Community Helpers & K9 Officer Visit
DESCRIPTION:
URL:https://ecarams.org/event/eec-community-helpers-k9-officer-visit/
LOCATION:OH
CATEGORIES:special events
ATTACH;FMTTYPE=image/jpeg:https://ecarams.org/wp-content/uploads/2018/09/k9Dog.jpg
END:VEVENT
BEGIN:VEVENT
DTSTART;VALUE=DATE:20180907
DTEND;VALUE=DATE:20180908
DTSTAMP:20260422T221126
CREATED:20180831T201446Z
LAST-MODIFIED:20180831T201446Z
UID:10000008-1536278400-1536364799@ecarams.org
SUMMARY:Middle School at a Glance
DESCRIPTION:
URL:https://ecarams.org/event/middle-school-at-a-glance/
LOCATION:Emmanuel Christian Academy\, 350 S Portage Path\, Akron\, OH\, 44320\, United States
ATTACH;FMTTYPE=image/jpeg:https://ecarams.org/wp-content/uploads/2018/08/middleSchoolMatters.jpg
END:VEVENT
BEGIN:VEVENT
DTSTART;VALUE=DATE:20180906
DTEND;VALUE=DATE:20180907
DTSTAMP:20260422T221126
CREATED:20180906T050848Z
LAST-MODIFIED:20180906T050848Z
UID:10000016-1536192000-1536278399@ecarams.org
SUMMARY:Best of the Best Fundraiser Kick-Off
DESCRIPTION:
URL:https://ecarams.org/event/best-of-the-best-fundraiser-kick-off/
LOCATION:OH
ATTACH;FMTTYPE=image/jpeg:https://ecarams.org/wp-content/uploads/2018/09/bestOfBest.jpg
END:VEVENT
BEGIN:VEVENT
DTSTART;VALUE=DATE:20180904
DTEND;VALUE=DATE:20180905
DTSTAMP:20260422T221126
CREATED:20180906T045053Z
LAST-MODIFIED:20180906T161027Z
UID:10000012-1536019200-1536105599@ecarams.org
SUMMARY:4th & 5th Grade Cuyahoga Valley Environmental Center Trip
DESCRIPTION:
URL:https://ecarams.org/event/4th-5th-grade-cuyahoga-valley-environmental-center-trip/
LOCATION:3675 Oak Hill Rd\, Peninsula\, OH 44264
CATEGORIES:special events
ATTACH;FMTTYPE=image/jpeg:https://ecarams.org/wp-content/uploads/2018/09/cveec.jpg
ORGANIZER;CN="Ms. Baylor":MAILTO:dbaylor@ecarams.org
END:VEVENT
BEGIN:VEVENT
DTSTART;VALUE=DATE:20180903
DTEND;VALUE=DATE:20180904
DTSTAMP:20260422T221126
CREATED:20180831T195259Z
LAST-MODIFIED:20230217T194624Z
UID:10000007-1535932800-1536019199@ecarams.org
SUMMARY:Labor Day - School Closed
DESCRIPTION:
URL:https://ecarams.org/event/labor-day-school-closed/
LOCATION:Emmanuel Christian Academy\, 350 S Portage Path\, Akron\, OH\, 44320\, United States
CATEGORIES:closings
ATTACH;FMTTYPE=image/jpeg:https://ecarams.org/wp-content/uploads/2018/08/laborDay.jpg
END:VEVENT
END:VCALENDAR