BEGIN:VCALENDAR
VERSION:2.0
PRODID:-//Emmanuel Christian Academy - ECPv6.15.20//NONSGML v1.0//EN
CALSCALE:GREGORIAN
METHOD:PUBLISH
X-ORIGINAL-URL:https://ecarams.org
X-WR-CALDESC:Events for Emmanuel Christian Academy
REFRESH-INTERVAL;VALUE=DURATION:PT1H
X-Robots-Tag:noindex
X-PUBLISHED-TTL:PT1H
BEGIN:VTIMEZONE
TZID:UTC
BEGIN:STANDARD
TZOFFSETFROM:+0000
TZOFFSETTO:+0000
TZNAME:UTC
DTSTART:20170101T000000
END:STANDARD
END:VTIMEZONE
BEGIN:VEVENT
DTSTART;VALUE=DATE:20181101
DTEND;VALUE=DATE:20181102
DTSTAMP:20260422T170225
CREATED:20180906T152936Z
LAST-MODIFIED:20230217T194051Z
UID:10000021-1541030400-1541116799@ecarams.org
SUMMARY:Report Card Sent Home
DESCRIPTION:
URL:https://ecarams.org/event/report-card-sent-home/
ATTACH;FMTTYPE=image/jpeg:https://ecarams.org/wp-content/uploads/2018/09/midterms.jpg
END:VEVENT
BEGIN:VEVENT
DTSTART;TZID=UTC:20181107T080000
DTEND;TZID=UTC:20181107T100000
DTSTAMP:20260422T170225
CREATED:20180906T153028Z
LAST-MODIFIED:20181101T190357Z
UID:10000023-1541577600-1541584800@ecarams.org
SUMMARY:Awards Ceremony
DESCRIPTION:
URL:https://ecarams.org/event/awards-ceremony/
CATEGORIES:special events
ATTACH;FMTTYPE=image/jpeg:https://ecarams.org/wp-content/uploads/2018/09/awards.jpg
END:VEVENT
BEGIN:VEVENT
DTSTART;VALUE=DATE:20181114
DTEND;VALUE=DATE:20181115
DTSTAMP:20260422T170225
CREATED:20180906T152959Z
LAST-MODIFIED:20181101T190143Z
UID:10000022-1542153600-1542239999@ecarams.org
SUMMARY:Picture Retake
DESCRIPTION:
URL:https://ecarams.org/event/picture-retake/
ATTACH;FMTTYPE=image/jpeg:https://ecarams.org/wp-content/uploads/2018/09/lifetouch.jpg
END:VEVENT
BEGIN:VEVENT
DTSTART;TZID=UTC:20181115T090000
DTEND;TZID=UTC:20181115T123000
DTSTAMP:20260422T170225
CREATED:20181109T203023Z
LAST-MODIFIED:20181109T203424Z
UID:10000056-1542272400-1542285000@ecarams.org
SUMMARY:6th Grade Field Trip...Christmas Story Museum
DESCRIPTION:
URL:https://ecarams.org/event/christmas-story-museum/
ATTACH;FMTTYPE=image/jpeg:https://ecarams.org/wp-content/uploads/2018/11/christmas-house.jpg
END:VEVENT
BEGIN:VEVENT
DTSTART;TZID=UTC:20181116T180000
DTEND;TZID=UTC:20181116T200000
DTSTAMP:20260422T170225
CREATED:20181101T190723Z
LAST-MODIFIED:20181108T182842Z
UID:10000055-1542391200-1542398400@ecarams.org
SUMMARY:Middle School Matters
DESCRIPTION:
URL:https://ecarams.org/event/middle-school-matters/
ATTACH;FMTTYPE=image/jpeg:https://ecarams.org/wp-content/uploads/2018/11/ForceNew.jpg
END:VEVENT
BEGIN:VEVENT
DTSTART;VALUE=DATE:20181119
DTEND;VALUE=DATE:20181121
DTSTAMP:20260422T170225
CREATED:20180906T153156Z
LAST-MODIFIED:20230217T194625Z
UID:10000024-1542585600-1542758399@ecarams.org
SUMMARY:All Teacher In-service
DESCRIPTION:Emmanuel and its offices will be closed as our staff takes part in In-Service training.
URL:https://ecarams.org/event/all-teacher-in-service-thanksgiving-break/
CATEGORIES:closings
ATTACH;FMTTYPE=image/jpeg:https://ecarams.org/wp-content/uploads/2018/09/schoolClosed.jpg
END:VEVENT
BEGIN:VEVENT
DTSTART;VALUE=DATE:20181130
DTEND;VALUE=DATE:20181201
DTSTAMP:20260422T170225
CREATED:20180906T153340Z
LAST-MODIFIED:20181016T132050Z
UID:10000025-1543536000-1543622399@ecarams.org
SUMMARY:Midterms Sent Home
DESCRIPTION:
URL:https://ecarams.org/event/midterms-sent-home/
CATEGORIES:grading benchmarks
ATTACH;FMTTYPE=image/jpeg:https://ecarams.org/wp-content/uploads/2018/09/importantDate.jpg
END:VEVENT
END:VCALENDAR