BEGIN:VCALENDAR
VERSION:2.0
PRODID:-//Emmanuel Christian Academy - ECPv6.15.20//NONSGML v1.0//EN
CALSCALE:GREGORIAN
METHOD:PUBLISH
X-ORIGINAL-URL:https://ecarams.org
X-WR-CALDESC:Events for Emmanuel Christian Academy
REFRESH-INTERVAL;VALUE=DURATION:PT1H
X-Robots-Tag:noindex
X-PUBLISHED-TTL:PT1H
BEGIN:VTIMEZONE
TZID:UTC
BEGIN:STANDARD
TZOFFSETFROM:+0000
TZOFFSETTO:+0000
TZNAME:UTC
DTSTART:20170101T000000
END:STANDARD
END:VTIMEZONE
BEGIN:VEVENT
DTSTART;TZID=UTC:20181206T090000
DTEND;TZID=UTC:20181206T110000
DTSTAMP:20260422T154622
CREATED:20181203T210600Z
LAST-MODIFIED:20181203T210600Z
UID:10000059-1544086800-1544094000@ecarams.org
SUMMARY:Bible Club Outreach at Haven of Rest
DESCRIPTION:
URL:https://ecarams.org/event/bible-club-outreach-at-haven-of-rest/
ATTACH;FMTTYPE=image/jpeg:https://ecarams.org/wp-content/uploads/2018/11/Bible-club-.jpg
END:VEVENT
BEGIN:VEVENT
DTSTART;VALUE=DATE:20181210
DTEND;VALUE=DATE:20181215
DTSTAMP:20260422T154622
CREATED:20181203T210955Z
LAST-MODIFIED:20181203T210955Z
UID:10000060-1544400000-1544831999@ecarams.org
SUMMARY:Emmanuel Rams Spirit Week
DESCRIPTION:
URL:https://ecarams.org/event/emmanuel-rams-spirit-week/
ATTACH;FMTTYPE=image/jpeg:https://ecarams.org/wp-content/uploads/2016/11/rams-logo.jpg
END:VEVENT
BEGIN:VEVENT
DTSTART;VALUE=DATE:20181210
DTEND;VALUE=DATE:20181221
DTSTAMP:20260422T154622
CREATED:20181203T212102Z
LAST-MODIFIED:20181203T212102Z
UID:10000063-1544400000-1545350399@ecarams.org
SUMMARY:Emmanuel's Christmas Store
DESCRIPTION:
URL:https://ecarams.org/event/emmanuels-christmas-store/
ATTACH;FMTTYPE=image/jpeg:https://ecarams.org/wp-content/uploads/2015/11/christmas-store.jpg
END:VEVENT
BEGIN:VEVENT
DTSTART;TZID=UTC:20181210T080000
DTEND;TZID=UTC:20181220T170000
DTSTAMP:20260422T154622
CREATED:20181203T211446Z
LAST-MODIFIED:20181203T211447Z
UID:10000061-1544428800-1545325200@ecarams.org
SUMMARY:Christmas Basket Raffles
DESCRIPTION:
URL:https://ecarams.org/event/christmas-basket-raffles/
ATTACH;FMTTYPE=image/jpeg:https://ecarams.org/wp-content/uploads/2018/12/raffle-2.jpg
END:VEVENT
BEGIN:VEVENT
DTSTART;TZID=UTC:20181214T133000
DTEND;TZID=UTC:20181214T153000
DTSTAMP:20260422T154622
CREATED:20181203T211654Z
LAST-MODIFIED:20181203T211654Z
UID:10000062-1544794200-1544801400@ecarams.org
SUMMARY:Emmanuel Rams Ice Cream Social
DESCRIPTION:
URL:https://ecarams.org/event/emmanuel-rams-ice-cream-social/
ATTACH;FMTTYPE=image/jpeg:https://ecarams.org/wp-content/uploads/2018/12/ice-cream-social-scaled.jpg
END:VEVENT
BEGIN:VEVENT
DTSTART;TZID=UTC:20181217T080000
DTEND;TZID=UTC:20181221T170000
DTSTAMP:20260422T154622
CREATED:20181113T214135Z
LAST-MODIFIED:20181127T220030Z
UID:10000057-1545033600-1545411600@ecarams.org
SUMMARY:Emmanuel's Scholastic Book Fair
DESCRIPTION:
URL:https://ecarams.org/event/emmanuels-scholastic-book-fair/
ATTACH;FMTTYPE=image/jpeg:https://ecarams.org/wp-content/uploads/2018/11/book-fair-scholastics-copy-e1542145226241.jpg
END:VEVENT
BEGIN:VEVENT
DTSTART;TZID=UTC:20181220T100000
DTEND;TZID=UTC:20181220T130000
DTSTAMP:20260422T154622
CREATED:20181130T192355Z
LAST-MODIFIED:20181130T192355Z
UID:10000058-1545300000-1545310800@ecarams.org
SUMMARY:Akron Fire Department Cooking Safety
DESCRIPTION:
URL:https://ecarams.org/event/akron-fire-department-cooking-safety/
ATTACH;FMTTYPE=image/jpeg:https://ecarams.org/wp-content/uploads/2018/11/akron-fire.jpg
END:VEVENT
BEGIN:VEVENT
DTSTART;VALUE=DATE:20181224
DTEND;VALUE=DATE:20190105
DTSTAMP:20260422T154622
CREATED:20180906T153458Z
LAST-MODIFIED:20181016T132930Z
UID:10000027-1545609600-1546646399@ecarams.org
SUMMARY:Christmas Break
DESCRIPTION:
URL:https://ecarams.org/event/christmas-break/
CATEGORIES:closings
ATTACH;FMTTYPE=image/jpeg:https://ecarams.org/wp-content/uploads/2018/09/MerryChristmas.jpg
END:VEVENT
END:VCALENDAR