BEGIN:VCALENDAR
VERSION:2.0
PRODID:-//Emmanuel Christian Academy - ECPv6.15.20//NONSGML v1.0//EN
CALSCALE:GREGORIAN
METHOD:PUBLISH
X-WR-CALNAME:Emmanuel Christian Academy
X-ORIGINAL-URL:https://ecarams.org
X-WR-CALDESC:Events for Emmanuel Christian Academy
REFRESH-INTERVAL;VALUE=DURATION:PT1H
X-Robots-Tag:noindex
X-PUBLISHED-TTL:PT1H
BEGIN:VTIMEZONE
TZID:UTC
BEGIN:STANDARD
TZOFFSETFROM:+0000
TZOFFSETTO:+0000
TZNAME:UTC
DTSTART:20180101T000000
END:STANDARD
END:VTIMEZONE
BEGIN:VEVENT
DTSTART;TZID=UTC:20190314T180000
DTEND;TZID=UTC:20190314T200000
DTSTAMP:20260422T114038
CREATED:20190304T220439Z
LAST-MODIFIED:20190304T220439Z
UID:10000072-1552586400-1552593600@ecarams.org
SUMMARY:Emmanuel Rams Winter Banquet
DESCRIPTION:
URL:https://ecarams.org/event/emmanuel-rams-winter-banquet/
ATTACH;FMTTYPE=image/jpeg:https://ecarams.org/wp-content/uploads/2016/11/rams-logo.jpg
END:VEVENT
BEGIN:VEVENT
DTSTART;VALUE=DATE:20190315
DTEND;VALUE=DATE:20190316
DTSTAMP:20260422T114038
CREATED:20180906T154605Z
LAST-MODIFIED:20230217T194626Z
UID:10000036-1552608000-1552694399@ecarams.org
SUMMARY:School Closed Professional Development
DESCRIPTION:
URL:https://ecarams.org/event/all-teacher-in-service-meetings/
CATEGORIES:closings
ATTACH;FMTTYPE=image/png:https://ecarams.org/wp-content/uploads/2018/09/professional-deve.png
END:VEVENT
BEGIN:VEVENT
DTSTART;TZID=UTC:20190318T080000
DTEND;TZID=UTC:20190322T170000
DTSTAMP:20260422T114038
CREATED:20190308T143845Z
LAST-MODIFIED:20190308T143845Z
UID:10000073-1552896000-1553274000@ecarams.org
SUMMARY:Emmanuel Rams Spirit Week
DESCRIPTION:
URL:https://ecarams.org/event/emmanuel-rams-spirit-week-2/
ATTACH;FMTTYPE=image/jpeg:https://ecarams.org/wp-content/uploads/2016/11/rams-logo.jpg
END:VEVENT
BEGIN:VEVENT
DTSTART;TZID=UTC:20190322T180000
DTEND;TZID=UTC:20190322T200000
DTSTAMP:20260422T114038
CREATED:20190303T164834Z
LAST-MODIFIED:20190304T143105Z
UID:10000071-1553277600-1553284800@ecarams.org
SUMMARY:Emmanuel All Schools Art Show
DESCRIPTION:
URL:https://ecarams.org/event/emmanuel-all-schools-art-show/
ATTACH;FMTTYPE=image/jpeg:https://ecarams.org/wp-content/uploads/2019/03/childrens-museum.jpg
END:VEVENT
BEGIN:VEVENT
DTSTART;VALUE=DATE:20190329
DTEND;VALUE=DATE:20190330
DTSTAMP:20260422T114038
CREATED:20180906T154759Z
LAST-MODIFIED:20230217T194051Z
UID:10000038-1553817600-1553903999@ecarams.org
SUMMARY:Report Cards on RenWeb
DESCRIPTION:
URL:https://ecarams.org/event/report-cards-sent-home/
CATEGORIES:grading benchmarks
ATTACH;FMTTYPE=image/jpeg:https://ecarams.org/wp-content/uploads/2018/09/midterms.jpg
END:VEVENT
BEGIN:VEVENT
DTSTART;TZID=UTC:20190329T174500
DTEND;TZID=UTC:20190329T190000
DTSTAMP:20260422T114038
CREATED:20190303T163630Z
LAST-MODIFIED:20190303T163630Z
UID:10000070-1553881500-1553886000@ecarams.org
SUMMARY:Emmanuel's Healthy Eating Initiative
DESCRIPTION:
URL:https://ecarams.org/event/emmanuels-healthy-eating-initiative/
ATTACH;FMTTYPE=image/jpeg:https://ecarams.org/wp-content/uploads/2019/03/summa-health-initiative-final-e1583268268347.jpg
END:VEVENT
END:VCALENDAR