BEGIN:VCALENDAR
VERSION:2.0
PRODID:-//Emmanuel Christian Academy - ECPv6.15.20//NONSGML v1.0//EN
CALSCALE:GREGORIAN
METHOD:PUBLISH
X-WR-CALNAME:Emmanuel Christian Academy
X-ORIGINAL-URL:https://ecarams.org
X-WR-CALDESC:Events for Emmanuel Christian Academy
REFRESH-INTERVAL;VALUE=DURATION:PT1H
X-Robots-Tag:noindex
X-PUBLISHED-TTL:PT1H
BEGIN:VTIMEZONE
TZID:UTC
BEGIN:STANDARD
TZOFFSETFROM:+0000
TZOFFSETTO:+0000
TZNAME:UTC
DTSTART:20180101T000000
END:STANDARD
END:VTIMEZONE
BEGIN:VEVENT
DTSTART;VALUE=DATE:20190506
DTEND;VALUE=DATE:20190511
DTSTAMP:20260422T085245
CREATED:20180906T155257Z
LAST-MODIFIED:20190506T140722Z
UID:10000045-1557100800-1557532799@ecarams.org
SUMMARY:Terra Nova (K–8) Testing
DESCRIPTION:
URL:https://ecarams.org/event/terra-nova-k-8-teachers-appreciation-week/
ATTACH;FMTTYPE=image/jpeg:https://ecarams.org/wp-content/uploads/2015/09/testing.jpg
END:VEVENT
BEGIN:VEVENT
DTSTART;VALUE=DATE:20190508
DTEND;VALUE=DATE:20190509
DTSTAMP:20260422T085245
CREATED:20190506T135734Z
LAST-MODIFIED:20190506T135734Z
UID:10000083-1557273600-1557359999@ecarams.org
SUMMARY:Soap Box Derby Team Day
DESCRIPTION:
URL:https://ecarams.org/event/soap-box-derby-team-day/
ATTACH;FMTTYPE=image/jpeg:https://ecarams.org/wp-content/uploads/2019/05/rams-race-scaled.jpg
END:VEVENT
BEGIN:VEVENT
DTSTART;TZID=UTC:20190510T090000
DTEND;TZID=UTC:20190510T150000
DTSTAMP:20260422T085245
CREATED:20190506T140436Z
LAST-MODIFIED:20190506T140436Z
UID:10000085-1557478800-1557500400@ecarams.org
SUMMARY:A.C.S.I. Art Festival
DESCRIPTION:
URL:https://ecarams.org/event/a-c-s-i-art-festival/
ATTACH;FMTTYPE=image/jpeg:https://ecarams.org/wp-content/uploads/2015/09/acsi-image.jpg
END:VEVENT
BEGIN:VEVENT
DTSTART;TZID=UTC:20190510T091500
DTEND;TZID=UTC:20190510T103000
DTSTAMP:20260422T085245
CREATED:20190506T134747Z
LAST-MODIFIED:20190506T134803Z
UID:10000082-1557479700-1557484200@ecarams.org
SUMMARY:Early Education Center with Outback Ray
DESCRIPTION:
URL:https://ecarams.org/event/early-education-with-outback-ray/
ATTACH;FMTTYPE=image/jpeg:https://ecarams.org/wp-content/uploads/2019/05/Outback-Ray-Webgraphic_opt.jpg
END:VEVENT
BEGIN:VEVENT
DTSTART;TZID=UTC:20190510T130000
DTEND;TZID=UTC:20190510T150000
DTSTAMP:20260422T085245
CREATED:20190506T140007Z
LAST-MODIFIED:20190506T140007Z
UID:10000084-1557493200-1557500400@ecarams.org
SUMMARY:Elementary Presentation.....Good Touch/Bad Touch
DESCRIPTION:
URL:https://ecarams.org/event/elementary-presentation-good-touch-bad-touch/
ATTACH;FMTTYPE=image/jpeg:https://ecarams.org/wp-content/uploads/2019/05/good-touch.jpg
END:VEVENT
BEGIN:VEVENT
DTSTART;VALUE=DATE:20190514
DTEND;VALUE=DATE:20190515
DTSTAMP:20260422T085245
CREATED:20190506T141432Z
LAST-MODIFIED:20190506T141432Z
UID:10000086-1557792000-1557878399@ecarams.org
SUMMARY:Kindergarten Screening
DESCRIPTION:
URL:https://ecarams.org/event/kindergarten-screening-2/
ATTACH;FMTTYPE=image/jpeg:https://ecarams.org/wp-content/uploads/2017/05/kindergarten.jpg
END:VEVENT
BEGIN:VEVENT
DTSTART;TZID=UTC:20190514T090000
DTEND;TZID=UTC:20190514T114500
DTSTAMP:20260422T085245
CREATED:20190506T142009Z
LAST-MODIFIED:20190506T142009Z
UID:10000087-1557824400-1557834300@ecarams.org
SUMMARY:Elementary Presentation...Real Eyes
DESCRIPTION:
URL:https://ecarams.org/event/elementary-presentation-real-eyes/
ATTACH;FMTTYPE=image/jpeg:https://ecarams.org/wp-content/uploads/2019/05/real-eyes-.jpg
END:VEVENT
BEGIN:VEVENT
DTSTART;TZID=UTC:20190515T090000
DTEND;TZID=UTC:20190515T111500
DTSTAMP:20260422T085245
CREATED:20190506T142512Z
LAST-MODIFIED:20190506T142512Z
UID:10000088-1557910800-1557918900@ecarams.org
SUMMARY:10th Annual Revolutionary War Living History Day @ Archbishop Hoban High School
DESCRIPTION:
URL:https://ecarams.org/event/10th-annual-revolutionary-war-living-history-day-archbishop-hoban-high-school/
ATTACH;FMTTYPE=image/jpeg:https://ecarams.org/wp-content/uploads/2019/05/cannon.jpg
END:VEVENT
BEGIN:VEVENT
DTSTART;TZID=UTC:20190518T080000
DTEND;TZID=UTC:20190518T140000
DTSTAMP:20260422T085245
CREATED:20190506T143032Z
LAST-MODIFIED:20190506T143058Z
UID:10000089-1558166400-1558188000@ecarams.org
SUMMARY:Soap Box Derby Gravity Race Challenge
DESCRIPTION:
URL:https://ecarams.org/event/soap-box-derby/
ATTACH;FMTTYPE=image/jpeg:https://ecarams.org/wp-content/uploads/2019/05/gravity-race.jpg
END:VEVENT
BEGIN:VEVENT
DTSTART;TZID=UTC:20190522T113000
DTEND;TZID=UTC:20190522T160000
DTSTAMP:20260422T085245
CREATED:20190506T143535Z
LAST-MODIFIED:20190506T143535Z
UID:10000090-1558524600-1558540800@ecarams.org
SUMMARY:Middle School Lemonade Market
DESCRIPTION:
URL:https://ecarams.org/event/middle-school-lemonade-market/
ATTACH;FMTTYPE=image/jpeg:https://ecarams.org/wp-content/uploads/2016/04/lemon-drop-lemonade.jpg
END:VEVENT
BEGIN:VEVENT
DTSTART;TZID=UTC:20190524T133000
DTEND;TZID=UTC:20190524T150000
DTSTAMP:20260422T085245
CREATED:20190506T170057Z
LAST-MODIFIED:20190506T170057Z
UID:10000092-1558704600-1558710000@ecarams.org
SUMMARY:Elementary Fire Department Presentation
DESCRIPTION:
URL:https://ecarams.org/event/elementary-fire-department-presentation/
ATTACH;FMTTYPE=image/jpeg:https://ecarams.org/wp-content/uploads/2018/11/akron-fire.jpg
END:VEVENT
BEGIN:VEVENT
DTSTART;VALUE=DATE:20190525
DTEND;VALUE=DATE:20190527
DTSTAMP:20260422T085245
CREATED:20190506T170323Z
LAST-MODIFIED:20190506T170323Z
UID:10000093-1558742400-1558915199@ecarams.org
SUMMARY:Emmanuel's Lemonade Day Around Akron
DESCRIPTION:
URL:https://ecarams.org/event/emmanuels-lemonade-day-around-akron/
ATTACH;FMTTYPE=image/jpeg:https://ecarams.org/wp-content/uploads/2016/04/lemonade-day-2016.jpg
END:VEVENT
BEGIN:VEVENT
DTSTART;VALUE=DATE:20190527
DTEND;VALUE=DATE:20190528
DTSTAMP:20260422T085245
CREATED:20180906T155326Z
LAST-MODIFIED:20230217T194626Z
UID:10000046-1558915200-1559001599@ecarams.org
SUMMARY:School Closed....Memorial Day
DESCRIPTION:
URL:https://ecarams.org/event/memorial-day/
CATEGORIES:closings
ATTACH;FMTTYPE=image/jpeg:https://ecarams.org/wp-content/uploads/2017/05/memorial-e1689260421149.jpg
END:VEVENT
BEGIN:VEVENT
DTSTART;VALUE=DATE:20190528
DTEND;VALUE=DATE:20190529
DTSTAMP:20260422T085245
CREATED:20180906T155350Z
LAST-MODIFIED:20190506T170613Z
UID:10000047-1559001600-1559087999@ecarams.org
SUMMARY:8th Grade Graduation
DESCRIPTION:
URL:https://ecarams.org/event/8th-grade-graduation/
CATEGORIES:grading benchmarks
ATTACH;FMTTYPE=image/jpeg:https://ecarams.org/wp-content/uploads/2018/08/middleSchoolMatters.jpg
END:VEVENT
BEGIN:VEVENT
DTSTART;VALUE=DATE:20190530
DTEND;VALUE=DATE:20190531
DTSTAMP:20260422T085245
CREATED:20180906T155555Z
LAST-MODIFIED:20230217T194051Z
UID:10000049-1559174400-1559260799@ecarams.org
SUMMARY:Last Day Students/Report Cards sent home
DESCRIPTION:
URL:https://ecarams.org/event/last-day-students-report-cards-sent-home/
CATEGORIES:grading benchmarks
ATTACH;FMTTYPE=image/jpeg:https://ecarams.org/wp-content/uploads/2018/09/report-cards-2.jpg
END:VEVENT
END:VCALENDAR