BEGIN:VCALENDAR
VERSION:2.0
PRODID:-//Emmanuel Christian Academy - ECPv6.15.20//NONSGML v1.0//EN
CALSCALE:GREGORIAN
METHOD:PUBLISH
X-WR-CALNAME:Emmanuel Christian Academy
X-ORIGINAL-URL:https://ecarams.org
X-WR-CALDESC:Events for Emmanuel Christian Academy
REFRESH-INTERVAL;VALUE=DURATION:PT1H
X-Robots-Tag:noindex
X-PUBLISHED-TTL:PT1H
BEGIN:VTIMEZONE
TZID:UTC
BEGIN:STANDARD
TZOFFSETFROM:+0000
TZOFFSETTO:+0000
TZNAME:UTC
DTSTART:20180101T000000
END:STANDARD
END:VTIMEZONE
BEGIN:VEVENT
DTSTART;VALUE=DATE:20190901
DTEND;VALUE=DATE:20190902
DTSTAMP:20260422T032553
CREATED:20190904T181922Z
LAST-MODIFIED:20190904T183919Z
UID:10000138-1567296000-1567382399@ecarams.org
SUMMARY:Fall Fundraiser Begins
DESCRIPTION:Sell items from “Best of the Best” Catalogue Booklet and Online!\nSchool ID: DGF19EMMAKR
URL:https://ecarams.org/event/fall-fundraiser-begins/
ATTACH;FMTTYPE=image/jpeg:https://ecarams.org/wp-content/uploads/2019/09/autumn-tree-enhanced-clipart-cliparthut-free-clipart-fall-tree-clip-art-680_472.jpg
END:VEVENT
BEGIN:VEVENT
DTSTART;TZID=UTC:20190919T090000
DTEND;TZID=UTC:20190919T120000
DTSTAMP:20260422T032553
CREATED:20190904T182309Z
LAST-MODIFIED:20190904T184523Z
UID:10000141-1568883600-1568894400@ecarams.org
SUMMARY:Elementary Field Trip
DESCRIPTION:PreK – 3rd Grade\nBeckwith Orchard Cider Mill\n(activities fees must be paid)
URL:https://ecarams.org/event/elementary-field-trip/
CATEGORIES:special events
ATTACH;FMTTYPE=image/jpeg:https://ecarams.org/wp-content/uploads/2019/09/JWSZGvQTwuQKHdoSgqzX9FHkN184ku0Hjj2z6eaPq8yQZUSs.jpg
END:VEVENT
BEGIN:VEVENT
DTSTART;TZID=UTC:20190919T153000
DTEND;TZID=UTC:20190919T170000
DTSTAMP:20260422T032553
CREATED:20190904T182436Z
LAST-MODIFIED:20190904T184155Z
UID:10000142-1568907000-1568912400@ecarams.org
SUMMARY:Art Club Begins
DESCRIPTION:Grades 3 – 8 eligible. Sign up and $35 fee required. \nMeets each Thursday\, room 100 \n3:45p-5:00p
URL:https://ecarams.org/event/art-club-begins/
ATTACH;FMTTYPE=image/png:https://ecarams.org/wp-content/uploads/2019/09/ArtClub.png
END:VEVENT
BEGIN:VEVENT
DTSTART;VALUE=DATE:20190925
DTEND;VALUE=DATE:20190926
DTSTAMP:20260422T032553
CREATED:20190904T182616Z
LAST-MODIFIED:20190904T184020Z
UID:10000144-1569369600-1569455999@ecarams.org
SUMMARY:Fall Fundraiser Ends
DESCRIPTION:All orders and payment due to office by 5:30pm
URL:https://ecarams.org/event/fall-fundraiser-ends/
ATTACH;FMTTYPE=image/jpeg:https://ecarams.org/wp-content/uploads/2019/09/autumn-tree-enhanced-clipart-cliparthut-free-clipart-fall-tree-clip-art-680_472.jpg
END:VEVENT
BEGIN:VEVENT
DTSTART;VALUE=DATE:20190925
DTEND;VALUE=DATE:20190926
DTSTAMP:20260422T032553
CREATED:20190904T182704Z
LAST-MODIFIED:20190904T184633Z
UID:10000145-1569369600-1569455999@ecarams.org
SUMMARY:Vision and Hearing Screening
DESCRIPTION:Grades K\, 1\, 3\, 5\, 7 and all New Students
URL:https://ecarams.org/event/vision-and-hearing-screening/
ATTACH;FMTTYPE=image/jpeg:https://ecarams.org/wp-content/uploads/2019/09/AdobeStock_6723704-1024x683.jpeg
END:VEVENT
BEGIN:VEVENT
DTSTART;VALUE=DATE:20190927
DTEND;VALUE=DATE:20190928
DTSTAMP:20260422T032553
CREATED:20190904T182748Z
LAST-MODIFIED:20190904T184554Z
UID:10000146-1569542400-1569628799@ecarams.org
SUMMARY:Dress Any Way Day
DESCRIPTION:cost to participate: $3.50 per student
URL:https://ecarams.org/event/dress-any-way-day/
CATEGORIES:special events
ATTACH;FMTTYPE=image/jpeg:https://ecarams.org/wp-content/uploads/2019/09/kid-clothes-clipart-16.jpg
END:VEVENT
END:VCALENDAR