BEGIN:VCALENDAR
VERSION:2.0
PRODID:-//Emmanuel Christian Academy - ECPv6.15.20//NONSGML v1.0//EN
CALSCALE:GREGORIAN
METHOD:PUBLISH
X-ORIGINAL-URL:https://ecarams.org
X-WR-CALDESC:Events for Emmanuel Christian Academy
REFRESH-INTERVAL;VALUE=DURATION:PT1H
X-Robots-Tag:noindex
X-PUBLISHED-TTL:PT1H
BEGIN:VTIMEZONE
TZID:UTC
BEGIN:STANDARD
TZOFFSETFROM:+0000
TZOFFSETTO:+0000
TZNAME:UTC
DTSTART:20180101T000000
END:STANDARD
END:VTIMEZONE
BEGIN:VEVENT
DTSTART;VALUE=DATE:20191106
DTEND;VALUE=DATE:20191109
DTSTAMP:20260422T004353
CREATED:20190626T160242Z
LAST-MODIFIED:20230217T194628Z
UID:10000110-1572998400-1573257599@ecarams.org
SUMMARY:MLA Professional Development Conference (middle school closed)
DESCRIPTION:
URL:https://ecarams.org/event/mla-professional-development-conference-middle-school-closed/
CATEGORIES:closings
ATTACH;FMTTYPE=image/jpeg:https://ecarams.org/wp-content/uploads/2019/06/20190821_080206-1-e1572360243586-scaled.jpg
END:VEVENT
BEGIN:VEVENT
DTSTART;TZID=UTC:20191119T173000
DTEND;TZID=UTC:20191119T190000
DTSTAMP:20260422T004353
CREATED:20191118T131731Z
LAST-MODIFIED:20191118T131731Z
UID:10000147-1574184600-1574190000@ecarams.org
SUMMARY:Parent Cafe.....Exceptional Men of Emmanuel
DESCRIPTION:
URL:https://ecarams.org/event/parent-cafe-exceptional-men-of-emmanuel/
ATTACH;FMTTYPE=image/jpeg:https://ecarams.org/wp-content/uploads/2019/11/72983166_2761125573906053_2440553159509147648_o-1.jpg
END:VEVENT
BEGIN:VEVENT
DTSTART;VALUE=DATE:20191122
DTEND;VALUE=DATE:20191123
DTSTAMP:20260422T004353
CREATED:20190626T163454Z
LAST-MODIFIED:20191029T144259Z
UID:10000127-1574380800-1574467199@ecarams.org
SUMMARY:Middle School Matters
DESCRIPTION:
URL:https://ecarams.org/event/middle-school-matters-2/
ATTACH;FMTTYPE=image/jpeg:https://ecarams.org/wp-content/uploads/2019/08/IMG_2490-e1572360167189-scaled.jpg
END:VEVENT
BEGIN:VEVENT
DTSTART;VALUE=DATE:20191125
DTEND;VALUE=DATE:20191130
DTSTAMP:20260422T004353
CREATED:20190626T160337Z
LAST-MODIFIED:20230713T143106Z
UID:10000111-1574640000-1575071999@ecarams.org
SUMMARY:Thanksgiving Break (School Closed)
DESCRIPTION:Thanksgiving Break (School Closed)
URL:https://ecarams.org/event/teachers-in-service-closed/
CATEGORIES:closings
ATTACH;FMTTYPE=image/jpeg:https://ecarams.org/wp-content/uploads/2017/11/thanksgiving-break.jpg
END:VEVENT
END:VCALENDAR