BEGIN:VCALENDAR
VERSION:2.0
PRODID:-//Emmanuel Christian Academy - ECPv6.15.20//NONSGML v1.0//EN
CALSCALE:GREGORIAN
METHOD:PUBLISH
X-WR-CALNAME:Emmanuel Christian Academy
X-ORIGINAL-URL:https://ecarams.org
X-WR-CALDESC:Events for Emmanuel Christian Academy
REFRESH-INTERVAL;VALUE=DURATION:PT1H
X-Robots-Tag:noindex
X-PUBLISHED-TTL:PT1H
BEGIN:VTIMEZONE
TZID:UTC
BEGIN:STANDARD
TZOFFSETFROM:+0000
TZOFFSETTO:+0000
TZNAME:UTC
DTSTART:20190101T000000
END:STANDARD
END:VTIMEZONE
BEGIN:VEVENT
DTSTART;VALUE=DATE:20200214
DTEND;VALUE=DATE:20200215
DTSTAMP:20260421T204337
CREATED:20190626T163906Z
LAST-MODIFIED:20190626T173718Z
UID:10000132-1581638400-1581724799@ecarams.org
SUMMARY:Midterms
DESCRIPTION:
URL:https://ecarams.org/event/midterms-3/
CATEGORIES:grading benchmarks
ATTACH;FMTTYPE=image/jpeg:https://ecarams.org/wp-content/uploads/2018/09/midterms.jpg
END:VEVENT
BEGIN:VEVENT
DTSTART;VALUE=DATE:20200217
DTEND;VALUE=DATE:20200218
DTSTAMP:20260421T204337
CREATED:20190626T160656Z
LAST-MODIFIED:20190626T174237Z
UID:10000114-1581897600-1581983999@ecarams.org
SUMMARY:President's Day (closed)
DESCRIPTION:
URL:https://ecarams.org/event/presidents-day-closed/
CATEGORIES:closings
ATTACH;FMTTYPE=image/jpeg:https://ecarams.org/wp-content/uploads/2016/02/penny.jpg
END:VEVENT
BEGIN:VEVENT
DTSTART;TZID=UTC:20200218T090000
DTEND;TZID=UTC:20200221T100000
DTSTAMP:20260421T204337
CREATED:20200204T185044Z
LAST-MODIFIED:20200204T185044Z
UID:10000158-1582016400-1582279200@ecarams.org
SUMMARY:Elementary K-3rd Living Museum
DESCRIPTION:K-3rd grade students become significant persons of\nhistory including Bible Characters\, artists\, leaders and\nathletes of the past and present. Parents are welcome.\nConference Room/ 114
URL:https://ecarams.org/event/elementary-k-3rd-living-museum/
ATTACH;FMTTYPE=image/jpeg:https://ecarams.org/wp-content/uploads/2020/02/living-museum.jpg
END:VEVENT
BEGIN:VEVENT
DTSTART;TZID=UTC:20200227T180000
DTEND;TZID=UTC:20200227T200000
DTSTAMP:20260421T204337
CREATED:20200127T205400Z
LAST-MODIFIED:20200127T205400Z
UID:10000157-1582826400-1582833600@ecarams.org
SUMMARY:Emmanuel's Folk Art Exhibition
DESCRIPTION:
URL:https://ecarams.org/event/emmanuels-folk-art-exhibition/
LOCATION:Akron Art Museum\, 1 South High St\, Akron\, United States
ATTACH;FMTTYPE=image/jpeg:https://ecarams.org/wp-content/uploads/2020/01/akron-art-museum-2020.jpg
END:VEVENT
END:VCALENDAR