BEGIN:VCALENDAR
VERSION:2.0
PRODID:-//Emmanuel Christian Academy - ECPv6.15.20//NONSGML v1.0//EN
CALSCALE:GREGORIAN
METHOD:PUBLISH
X-ORIGINAL-URL:https://ecarams.org
X-WR-CALDESC:Events for Emmanuel Christian Academy
REFRESH-INTERVAL;VALUE=DURATION:PT1H
X-Robots-Tag:noindex
X-PUBLISHED-TTL:PT1H
BEGIN:VTIMEZONE
TZID:UTC
BEGIN:STANDARD
TZOFFSETFROM:+0000
TZOFFSETTO:+0000
TZNAME:UTC
DTSTART:20190101T000000
END:STANDARD
END:VTIMEZONE
BEGIN:VEVENT
DTSTART;TZID=UTC:20200306T090000
DTEND;TZID=UTC:20200306T130000
DTSTAMP:20260421T192821
CREATED:20200302T213832Z
LAST-MODIFIED:20200302T215532Z
UID:10000159-1583485200-1583499600@ecarams.org
SUMMARY:ACSI Speech Meet
DESCRIPTION:Oratory Contest for selected Emmanuel students to travel to Valley Christian School in Aurora Ohio
URL:https://ecarams.org/event/acsi-speech-meet/
ATTACH;FMTTYPE=image/jpeg:https://ecarams.org/wp-content/uploads/2015/09/acsi-image.jpg
END:VEVENT
BEGIN:VEVENT
DTSTART;TZID=UTC:20200311T083000
DTEND;TZID=UTC:20200311T223000
DTSTAMP:20260421T192821
CREATED:20200302T214252Z
LAST-MODIFIED:20200302T214252Z
UID:10000160-1583915400-1583965800@ecarams.org
SUMMARY:Human Trafficking Middle School Assembly
DESCRIPTION:Assembly for Emmanuel Middle School discussing the dangers of human trafficking. Information on what to look for and navigate safely in their surroundings
URL:https://ecarams.org/event/human-trafficking-middle-school-assembly/
ATTACH;FMTTYPE=image/jpeg:https://ecarams.org/wp-content/uploads/2020/03/human-trafficking.max-752x423-1.jpg
END:VEVENT
BEGIN:VEVENT
DTSTART;TZID=UTC:20200312T180000
DTEND;TZID=UTC:20200312T200000
DTSTAMP:20260421T192821
CREATED:20200303T204723Z
LAST-MODIFIED:20200304T220723Z
UID:10000163-1584036000-1584043200@ecarams.org
SUMMARY:Emmanuel's Fall Athlete Banquet
DESCRIPTION:Banquet held in Fellowship Hall at 6:00 pm. Tickets $15 per person and free for Athletes.
URL:https://ecarams.org/event/emmanuels-fall-athlete-banquet/
ATTACH;FMTTYPE=image/jpeg:https://ecarams.org/wp-content/uploads/2016/11/rams-logo.jpg
END:VEVENT
BEGIN:VEVENT
DTSTART;VALUE=DATE:20200313
DTEND;VALUE=DATE:20200314
DTSTAMP:20260421T192821
CREATED:20190626T160740Z
LAST-MODIFIED:20190626T183607Z
UID:10000115-1584057600-1584143999@ecarams.org
SUMMARY:Parent-Teacher Conferences (closed)
DESCRIPTION:
URL:https://ecarams.org/event/parent-teacher-conferences-closed/
CATEGORIES:closings
ATTACH;FMTTYPE=image/jpeg:https://ecarams.org/wp-content/uploads/2015/09/parent-teacher-conference.jpg
END:VEVENT
BEGIN:VEVENT
DTSTART;TZID=UTC:20200317T080000
DTEND;TZID=UTC:20200320T170000
DTSTAMP:20260421T192821
CREATED:20200313T163523Z
LAST-MODIFIED:20200315T183148Z
UID:10000165-1584432000-1584723600@ecarams.org
SUMMARY:School Closed...School Age & EEC
DESCRIPTION:Due to the Executive Order from Governor DeWine school will be closed. Online work and packets will be sent home for learners to complete and turn in for grade credit.
URL:https://ecarams.org/event/school-closed-school-age-only/
ATTACH;FMTTYPE=image/jpeg:https://ecarams.org/wp-content/uploads/2017/05/emmanuel-building-scaled.jpg
END:VEVENT
BEGIN:VEVENT
DTSTART;TZID=UTC:20200319T080000
DTEND;TZID=UTC:20200319T170000
DTSTAMP:20260421T192821
CREATED:20200303T205159Z
LAST-MODIFIED:20200316T153201Z
UID:10000164-1584604800-1584637200@ecarams.org
SUMMARY:POSTPONED | Middle School Field Trip....Carnegie Science Center
DESCRIPTION:Middle School will travel to Pittsburgh to the Carnegie Science Center. Hands-on Approach to learning in and outside the classroom
URL:https://ecarams.org/event/middle-school-field-trip-carnegie-science-center/
ATTACH;FMTTYPE=image/jpeg:https://ecarams.org/wp-content/uploads/2020/03/carneigie.jpeg
END:VEVENT
BEGIN:VEVENT
DTSTART;TZID=UTC:20200319T090000
DTEND;TZID=UTC:20200319T150000
DTSTAMP:20260421T192821
CREATED:20200302T215442Z
LAST-MODIFIED:20200316T153240Z
UID:10000161-1584608400-1584630000@ecarams.org
SUMMARY:POSTPONED | K-3rd Field Trip....Great Lakes Science Center
DESCRIPTION:
URL:https://ecarams.org/event/k-3rd-field-trip-great-lakes-science-center/
ATTACH;FMTTYPE=image/jpeg:https://ecarams.org/wp-content/uploads/2020/03/great-lakes.jpg
END:VEVENT
BEGIN:VEVENT
DTSTART;VALUE=DATE:20200320
DTEND;VALUE=DATE:20200321
DTSTAMP:20260421T192821
CREATED:20190626T164230Z
LAST-MODIFIED:20190626T175621Z
UID:10000134-1584662400-1584748799@ecarams.org
SUMMARY:3rd Quarter grades close
DESCRIPTION:
URL:https://ecarams.org/event/3rd-quarter-grades-close/
CATEGORIES:grading benchmarks
ATTACH;FMTTYPE=image/jpeg:https://ecarams.org/wp-content/uploads/2018/09/report-cards-2.jpg
END:VEVENT
BEGIN:VEVENT
DTSTART;TZID=UTC:20200327T174500
DTEND;TZID=UTC:20200327T190000
DTSTAMP:20260421T192821
CREATED:20200303T204504Z
LAST-MODIFIED:20200316T153321Z
UID:10000162-1585331100-1585335600@ecarams.org
SUMMARY:POSTPONED | EEC & Summa Healthy Initiative
DESCRIPTION:Healthy Eating choices for the entire family. Reserve family seat for the evening. Seats Limited
URL:https://ecarams.org/event/eec-summa-healthy-initiative/
ATTACH;FMTTYPE=image/jpeg:https://ecarams.org/wp-content/uploads/2019/03/summa-health-initiative-final-e1583268268347.jpg
END:VEVENT
BEGIN:VEVENT
DTSTART;VALUE=DATE:20200330
DTEND;VALUE=DATE:20200407
DTSTAMP:20260421T192821
CREATED:20190626T164336Z
LAST-MODIFIED:20200316T153403Z
UID:10000136-1585526400-1586217599@ecarams.org
SUMMARY:POSTPONED | Ohio State Testing
DESCRIPTION:
URL:https://ecarams.org/event/ohio-state-testing/
CATEGORIES:grading benchmarks
ATTACH;FMTTYPE=image/jpeg:https://ecarams.org/wp-content/uploads/2015/09/testing.jpg
END:VEVENT
END:VCALENDAR