BEGIN:VCALENDAR
VERSION:2.0
PRODID:-//Emmanuel Christian Academy - ECPv6.15.20//NONSGML v1.0//EN
CALSCALE:GREGORIAN
METHOD:PUBLISH
X-ORIGINAL-URL:https://ecarams.org
X-WR-CALDESC:Events for Emmanuel Christian Academy
REFRESH-INTERVAL;VALUE=DURATION:PT1H
X-Robots-Tag:noindex
X-PUBLISHED-TTL:PT1H
BEGIN:VTIMEZONE
TZID:UTC
BEGIN:STANDARD
TZOFFSETFROM:+0000
TZOFFSETTO:+0000
TZNAME:UTC
DTSTART:20190101T000000
END:STANDARD
END:VTIMEZONE
BEGIN:VEVENT
DTSTART;VALUE=DATE:20200601
DTEND;VALUE=DATE:20200606
DTSTAMP:20260421T150410
CREATED:20190626T161457Z
LAST-MODIFIED:20200402T215406Z
UID:10000116-1590969600-1591401599@ecarams.org
SUMMARY:Summer School Staff In-service (closed)
DESCRIPTION:
URL:https://ecarams.org/event/summer-school-staff-in-service-closed/
CATEGORIES:closings
ATTACH;FMTTYPE=image/jpeg:https://ecarams.org/wp-content/uploads/2017/11/inservice-day.jpg
END:VEVENT
BEGIN:VEVENT
DTSTART;TZID=UTC:20200605T080000
DTEND;TZID=UTC:20200605T170000
DTSTAMP:20260421T150410
CREATED:20201209T234629Z
LAST-MODIFIED:20201209T234629Z
UID:10000212-1591344000-1591376400@ecarams.org
SUMMARY:EEC Closed to prepare for Transitions
DESCRIPTION:EEC Closed to prepare for Transitions
URL:https://ecarams.org/event/eec-closed-to-prepare-for-transitions/
ATTACH;FMTTYPE=image/jpeg:https://ecarams.org/wp-content/uploads/2020/12/stock-ECA-700x450-1.jpg
END:VEVENT
BEGIN:VEVENT
DTSTART;TZID=UTC:20200608T080000
DTEND;TZID=UTC:20200611T160000
DTSTAMP:20260421T150410
CREATED:20200608T133537Z
LAST-MODIFIED:20230217T193906Z
UID:10000178-1591603200-1591891200@ecarams.org
SUMMARY:My-Stars Camp...Towpath Tennis
DESCRIPTION:Campers build up their tennis skills with performing and understanding the game
URL:https://ecarams.org/event/my-stars-camp-towpath-tennis/
ATTACH;FMTTYPE=image/jpeg:https://ecarams.org/wp-content/uploads/2020/06/tennis.jpg
END:VEVENT
BEGIN:VEVENT
DTSTART;TZID=UTC:20200608T080000
DTEND;TZID=UTC:20200612T160000
DTSTAMP:20260421T150410
CREATED:20200608T131659Z
LAST-MODIFIED:20230217T193906Z
UID:10000175-1591603200-1591977600@ecarams.org
SUMMARY:S.T.E.A.M. Camp MINI MEDICAL SCHOOL....Germs
DESCRIPTION:Summa Health visit and show campers how to avoid germs
URL:https://ecarams.org/event/s-t-e-a-m-camp-mini-medical-school-germs/
ATTACH;FMTTYPE=image/jpeg:https://ecarams.org/wp-content/uploads/2020/06/germs.jpg
END:VEVENT
BEGIN:VEVENT
DTSTART;TZID=UTC:20200610T080000
DTEND;TZID=UTC:20200610T160000
DTSTAMP:20260421T150410
CREATED:20200608T135729Z
LAST-MODIFIED:20230217T193904Z
UID:10000182-1591776000-1591804800@ecarams.org
SUMMARY:My-Stars Camp....Community Service
DESCRIPTION:My-Stars gets out into the community and volunteers at Open M in Akron
URL:https://ecarams.org/event/my-stars-camp-community-service/
ATTACH;FMTTYPE=image/jpeg:https://ecarams.org/wp-content/uploads/2020/06/open-M.jpg
END:VEVENT
BEGIN:VEVENT
DTSTART;TZID=UTC:20200615T080000
DTEND;TZID=UTC:20200618T170000
DTSTAMP:20260421T150410
CREATED:20200608T133841Z
LAST-MODIFIED:20230217T193905Z
UID:10000179-1592208000-1592499600@ecarams.org
SUMMARY:My-Stars Camp...Towpath Tennis
DESCRIPTION:Campers build up their tennis skills with performing and understanding the game
URL:https://ecarams.org/event/my-stars-camp-towpath-tennis-2/
ATTACH;FMTTYPE=image/jpeg:https://ecarams.org/wp-content/uploads/2020/06/tennis.jpg
END:VEVENT
BEGIN:VEVENT
DTSTART;TZID=UTC:20200615T080000
DTEND;TZID=UTC:20200619T160000
DTSTAMP:20260421T150410
CREATED:20200608T132443Z
LAST-MODIFIED:20230217T193906Z
UID:10000176-1592208000-1592582400@ecarams.org
SUMMARY:S.T.E.A.M. Camp Hiking
DESCRIPTION:Campers discover the great outdoors! Hiking along the trails of Oak Hill and Beaver Marsh
URL:https://ecarams.org/event/s-t-e-a-m-camp-hiking/
ATTACH;FMTTYPE=image/jpeg:https://ecarams.org/wp-content/uploads/2020/06/cuyahoga-valley.jpeg
END:VEVENT
BEGIN:VEVENT
DTSTART;TZID=UTC:20200617T080000
DTEND;TZID=UTC:20200617T160000
DTSTAMP:20260421T150410
CREATED:20200608T140606Z
LAST-MODIFIED:20230217T193904Z
UID:10000183-1592380800-1592409600@ecarams.org
SUMMARY:My-Stars Camp........Community Service
DESCRIPTION:My-Stars gets out into the community and volunteers at Open M in Akron
URL:https://ecarams.org/event/my-stars-camp-community-service-2/
ATTACH;FMTTYPE=image/jpeg:https://ecarams.org/wp-content/uploads/2020/06/open-M.jpg
END:VEVENT
BEGIN:VEVENT
DTSTART;TZID=UTC:20200622T080000
DTEND;TZID=UTC:20200625T170000
DTSTAMP:20260421T150410
CREATED:20200608T134502Z
LAST-MODIFIED:20230217T193905Z
UID:10000180-1592812800-1593104400@ecarams.org
SUMMARY:My-Stars Camp....Towpath Tennis
DESCRIPTION:Campers build up their tennis skills with performing and understanding the game
URL:https://ecarams.org/event/my-stars-camp-towpath-tennis-3/
ATTACH;FMTTYPE=image/jpeg:https://ecarams.org/wp-content/uploads/2020/06/tennis.jpg
END:VEVENT
BEGIN:VEVENT
DTSTART;TZID=UTC:20200629T080000
DTEND;TZID=UTC:20200629T170000
DTSTAMP:20260421T150410
CREATED:20200608T134918Z
LAST-MODIFIED:20230217T193904Z
UID:10000181-1593417600-1593450000@ecarams.org
SUMMARY:My-Stars Camp.....Towpath Tennis
DESCRIPTION:Campers build up their tennis skills with performing and understanding the game
URL:https://ecarams.org/event/my-stars-camp-towpath-tennis-4/
ATTACH;FMTTYPE=image/jpeg:https://ecarams.org/wp-content/uploads/2020/06/tennis.jpg
END:VEVENT
BEGIN:VEVENT
DTSTART;TZID=UTC:20200629T080000
DTEND;TZID=UTC:20200703T160000
DTSTAMP:20260421T150410
CREATED:20200608T132703Z
LAST-MODIFIED:20230217T193906Z
UID:10000177-1593417600-1593792000@ecarams.org
SUMMARY:S.T.E.A.M. Camp Outback Ray visitation
DESCRIPTION:Campers explore various animal species with visitor Outback Ray
URL:https://ecarams.org/event/s-t-e-a-m-camp-outback-ray-visitation/
ATTACH;FMTTYPE=image/jpeg:https://ecarams.org/wp-content/uploads/2019/05/Outback-Ray-Webgraphic_opt.jpg
END:VEVENT
END:VCALENDAR