BEGIN:VCALENDAR
VERSION:2.0
PRODID:-//Emmanuel Christian Academy - ECPv6.15.20//NONSGML v1.0//EN
CALSCALE:GREGORIAN
METHOD:PUBLISH
X-ORIGINAL-URL:https://ecarams.org
X-WR-CALDESC:Events for Emmanuel Christian Academy
REFRESH-INTERVAL;VALUE=DURATION:PT1H
X-Robots-Tag:noindex
X-PUBLISHED-TTL:PT1H
BEGIN:VTIMEZONE
TZID:UTC
BEGIN:STANDARD
TZOFFSETFROM:+0000
TZOFFSETTO:+0000
TZNAME:UTC
DTSTART:20190101T000000
END:STANDARD
END:VTIMEZONE
BEGIN:VEVENT
DTSTART;TZID=UTC:20201027T080000
DTEND;TZID=UTC:20201027T170000
DTSTAMP:20260421T091647
CREATED:20201027T001045Z
LAST-MODIFIED:20201027T001045Z
UID:10000198-1603785600-1603818000@ecarams.org
SUMMARY:100th Day of School Celebration
DESCRIPTION:The 100th Day of School Celebration.
URL:https://ecarams.org/event/100th-day-of-school-celebration/
ATTACH;FMTTYPE=image/jpeg:https://ecarams.org/wp-content/uploads/2020/10/100day-school-celebration.jpg
END:VEVENT
BEGIN:VEVENT
DTSTART;TZID=UTC:20201029T080000
DTEND;TZID=UTC:20201029T170000
DTSTAMP:20260421T091647
CREATED:20201029T143531Z
LAST-MODIFIED:20230217T194052Z
UID:10000207-1603958400-1603990800@ecarams.org
SUMMARY:Last Day Students / Report Cards
DESCRIPTION:Students Last Day report cards distributed.
URL:https://ecarams.org/event/last-day-students-report-cards/
ATTACH;FMTTYPE=image/jpeg:https://ecarams.org/wp-content/uploads/2020/10/grade-A-700x450-1.jpg
END:VEVENT
END:VCALENDAR